BEGIN:VCALENDAR
PRODID:-//AT Content Types//AT Event//EN
VERSION:2.0
METHOD:PUBLISH
BEGIN:VEVENT
DTSTAMP:20260419T142939Z
CREATED:20180429T085936Z
UID:ATEvent-55ca19bd7e994adeb233d02e645dbe0d
LAST-MODIFIED:20180517T073826Z
SUMMARY:Il Futuro è già qui
DTSTART:20180502T090000Z
DTEND:20180502T110000Z
DESCRIPTION:Robotica e Parlamento Europeo
LOCATION:Loggia Grano Aula 6
CATEGORIES:seminario didattico
CLASS:PUBLIC
END:VEVENT
END:VCALENDAR
