BEGIN:VCALENDAR
PRODID:-//AT Content Types//AT Event//EN
VERSION:1.0
BEGIN:VEVENT
DTSTART:20130411T070000Z
DTEND:20130508T120000Z
DCREATED:20130403T123815Z
UID:ATEvent-0cd789daef5f4d02a99fb630f941c189
SEQUENCE:0
LAST-MODIFIED:20130515T094710Z
SUMMARY:ANALISI\, ELABORAZIONE E PRESENTAZIONE DI DATI DI INCHIESTA PER LE SCIENZE UMANE E SOCIALI
DESCRIPTION:seminario didattico
LOCATION:Aula 2.1\, Palazzo Ciccolini\, Macerata
PRIORITY:3
TRANSP:0
END:VEVENT
END:VCALENDAR
