BEGIN:VCALENDAR
PRODID:-//AT Content Types//AT Event//EN
VERSION:1.0
BEGIN:VEVENT
DTSTART:20130502T080000Z
DTEND:20130509T130000Z
DCREATED:20130502T122431Z
UID:ATEvent-ff584bfe98794b9db6ccb3be73f8b69e
SEQUENCE:0
LAST-MODIFIED:20130507T134351Z
SUMMARY:CICLO DI LEZIONI DEL PROF. NECHITA FLORIN
LOCATION:Aula 6\, via Don Minzoni
PRIORITY:3
TRANSP:0
END:VEVENT
END:VCALENDAR
