BEGIN:VCALENDAR
PRODID:-//AT Content Types//AT Event//EN
VERSION:2.0
METHOD:PUBLISH
BEGIN:VEVENT
DTSTAMP:20260419T143431Z
CREATED:20180301T101312Z
UID:ATEvent-2f50f324618b47fda8aee6abe19f21cc
LAST-MODIFIED:20180301T102105Z
SUMMARY:Ciclo di seminari interdisciplinari\: “Proposte operative per un giornalismo costruttivo”
DTSTART:20180321T101000Z
DTEND:20180321T121000Z
DESCRIPTION:Schermi di Inchiesta. News\, campo e controcampo
LOCATION:AULA A / PIAZZA STRAMBI\, 1 / MACERATA
CATEGORIES:seminario didattico
CLASS:PUBLIC
END:VEVENT
END:VCALENDAR
