BEGIN:VCALENDAR
PRODID:-//AT Content Types//AT Event//EN
VERSION:2.0
METHOD:PUBLISH
BEGIN:VEVENT
DTSTAMP:20260419T175104Z
CREATED:20140213T122812Z
UID:ATEvent-6554128bbb664ff39c5d6091593fdd50
LAST-MODIFIED:20140213T122929Z
SUMMARY:CICLO DI SEMINARI. Intercomprensione tra italiano\, francese\, portoghese\, spagnolo ...
DTSTART:20140305T150000Z
DTEND:20140416T160000Z
LOCATION:Dip. Studi umanistici\, palazzo Ciccolini\, via XX settembre\, Macerata
CATEGORIES:seminario didattico
CONTACT:Piero Bertini\, +39 0733 258.2777\, pierluigi.bertini@unimc.it
CLASS:PUBLIC
END:VEVENT
END:VCALENDAR
