BEGIN:VCALENDAR
PRODID:-//AT Content Types//AT Event//EN
VERSION:1.0
BEGIN:VEVENT
DTSTART:20170317T140000Z
DTEND:20170317T180000Z
DCREATED:20170309T171013Z
UID:ATEvent-dd2ff786de06426a9871a070ddbba722
SEQUENCE:0
LAST-MODIFIED:20170309T171100Z
SUMMARY:CICLO DI SEMINARI. Per l'ermo colle. Il paesaggio\, bene comune tra tutela e valorizzazione
LOCATION:aula BLU / Polo didattico Pantaleoni / via Pescheria vecchia 22 / Unimc / Macerata
PRIORITY:3
TRANSP:0
END:VEVENT
END:VCALENDAR
