BEGIN:VCALENDAR
PRODID:-//AT Content Types//AT Event//EN
VERSION:2.0
METHOD:PUBLISH
BEGIN:VEVENT
DTSTAMP:20260419T161903Z
CREATED:20160302T103500Z
UID:ATEvent-e91ae483923847f5b7b8426e28edd1b3
LAST-MODIFIED:20160302T103533Z
SUMMARY:CICLO DI SEMINARI. Politica\, politiche  ed economia\: prospettive di analisi
DTSTART:20160308T100000Z
DTEND:20160405T110000Z
LOCATION:Aula AL2 / Sede SPOCRI di piazza Strambi 1 / 62100 Macerata
CATEGORIES:seminario didattico
CONTACT:Piero Bertini\, +39 0733 258.2777\, pierluigi.bertini@unimc.it
CLASS:PUBLIC
END:VEVENT
END:VCALENDAR
