BEGIN:VCALENDAR
PRODID:-//AT Content Types//AT Event//EN
VERSION:1.0
BEGIN:VEVENT
DTSTART:20160412T130000Z
DTEND:20160412T150000Z
DCREATED:20160405T082124Z
UID:ATEvent-3b1a1503791b47f982eda9063a3a1330
SEQUENCE:0
LAST-MODIFIED:20160405T090316Z
SUMMARY:PER RAFFORZARE IL PROGETTO COSTITUZIONALE. Il trattamento penitenziario dei detenuti stranieri\: la legge è uguale per tutti?
LOCATION:Aula 5 / Sede GIURISPRUDENZA / piaggia dell'università  2 / Macerata
PRIORITY:3
TRANSP:0
END:VEVENT
END:VCALENDAR
