BEGIN:VCALENDAR
PRODID:-//AT Content Types//AT Event//EN
VERSION:1.0
BEGIN:VEVENT
DTSTART:20151203T140000Z
DTEND:20151203T183000Z
DCREATED:20151125T151310Z
UID:ATEvent-a5987c9158ed4e869500d2e8d299dc39
SEQUENCE:0
LAST-MODIFIED:20151125T152434Z
SUMMARY:DONNE POLITICA ISTITUZIONI / SEMINARIO. Il diritto al cibo
LOCATION:Antica Biblioteca / Dip. Giurisprudenza / UniMc / piaggia dell'Università 2 / Macerata
PRIORITY:3
TRANSP:0
END:VEVENT
END:VCALENDAR
