BEGIN:VCALENDAR
PRODID:-//AT Content Types//AT Event//EN
VERSION:2.0
METHOD:PUBLISH
BEGIN:VEVENT
DTSTAMP:20260419T160939Z
CREATED:20130424T194223Z
UID:ATEvent-0af732cf82db45e4852f40003ba5e368
LAST-MODIFIED:20130424T200837Z
SUMMARY:HANNAH ARENDT E PRIMO LEVI GIORNALISTI
DTSTART:20130423T080000Z
DTEND:20130423T150000Z
DESCRIPTION:seminario
LOCATION:aula 7\, sede via don minzoni 2
CATEGORIES:seminario didattico
CONTACT:Piero Bertini\, + 39 0733 258.2777\, bertini@unimc.it
CLASS:PUBLIC
END:VEVENT
END:VCALENDAR
