BEGIN:VCALENDAR
PRODID:-//AT Content Types//AT Event//EN
VERSION:1.0
BEGIN:VEVENT
DTSTART:20150218T103000Z
DTEND:20150218T120000Z
DCREATED:20150202T193526Z
UID:ATEvent-1cb7f4ac2a8f46dfaa5b5d639a8fd660
SEQUENCE:0
LAST-MODIFIED:20150202T193611Z
SUMMARY:INSTANT SEMINAR. Diritto alla satira\, terrorismo e sicurezza\: tout est (ou rien n’est) pardonné?
LOCATION:Aula Abside\, Sede di piazza Strambi 1\, UniMc\, Macerata
PRIORITY:3
TRANSP:0
END:VEVENT
END:VCALENDAR
