BEGIN:VCALENDAR
PRODID:-//AT Content Types//AT Event//EN
VERSION:2.0
METHOD:PUBLISH
BEGIN:VEVENT
DTSTAMP:20260419T161619Z
CREATED:20131128T094003Z
UID:ATEvent-ac9b0c4ed6bb4cd1afe8c3a9f61547c7
LAST-MODIFIED:20131128T133628Z
SUMMARY:INSTANT SEMINAR. L’incandidabilità sopravvenuta del parlamentare.
DTSTART:20131206T103000Z
DTEND:20131206T123000Z
LOCATION:Aula Abside\, piazza Strambi 1\, UniMc
CATEGORIES:seminario didattico
CONTACT:Piero Bertini\, +39 0733 258.2777\, pierluigi.bertini@unimc.it
CLASS:PUBLIC
END:VEVENT
END:VCALENDAR
