BEGIN:VCALENDAR
PRODID:-//AT Content Types//AT Event//EN
VERSION:1.0
BEGIN:VEVENT
DTSTART:20140205T150000Z
DTEND:20140105T170000Z
DCREATED:20140128T091157Z
UID:ATEvent-522323731a60469bbd96b3de51e70de6
SEQUENCE:0
LAST-MODIFIED:20140128T091333Z
SUMMARY:INSTANT SEMINAR. The day after. La sentenza della Corte costituzionale sulla legge elettorale
LOCATION:Aula Abside\, piazza Strambi\, 1 - Macerata
PRIORITY:3
TRANSP:0
END:VEVENT
END:VCALENDAR
