BEGIN:VCALENDAR
PRODID:-//AT Content Types//AT Event//EN
VERSION:2.0
METHOD:PUBLISH
BEGIN:VEVENT
DTSTAMP:20260419T160938Z
CREATED:20130403T114050Z
UID:ATEvent-eaa3a50eefe5461796eea69e82a70c90
LAST-MODIFIED:20130403T124526Z
SUMMARY:L’IMMAGINE COME PRE_TESTO\: L’ISTANTE FOTOGRAFICO
DTSTART:20130410T080000Z
DTEND:20130410T160000Z
DESCRIPTION:seminario
LOCATION:sala verde\, Palazzo ex-Menichelli\, Macerata
CATEGORIES:seminario didattico
CONTACT:Piero Bertini\, +39 0733 258.2777\, bertini@unimc.it
CLASS:PUBLIC
END:VEVENT
END:VCALENDAR
