BEGIN:VCALENDAR
PRODID:-//AT Content Types//AT Event//EN
VERSION:1.0
BEGIN:VEVENT
DTSTART:20180321T130000Z
DTEND:20180321T150000Z
DCREATED:20180302T114525Z
UID:ATEvent-b34c0a1cda4646f3a45fdc35a37b4721
SEQUENCE:0
LAST-MODIFIED:20180302T114531Z
SUMMARY:L’Unione Europea nell’epoca della “Brexit”
DESCRIPTION:Nell'ambito del corso di Diritto dell'Unione Europea dott.
 ssa Laura Salvadego
LOCATION:Aula 2 (IV piano)\, Via Don Minzoni 22/A\, Macerata
PRIORITY:3
TRANSP:0
END:VEVENT
END:VCALENDAR
