BEGIN:VCALENDAR
PRODID:-//AT Content Types//AT Event//EN
VERSION:1.0
BEGIN:VEVENT
DTSTART:20130503T070000Z
DTEND:20130502T110000Z
DCREATED:20130502T123551Z
UID:ATEvent-819feedfb5c14ddfa84c5a08c8086d8e
SEQUENCE:0
LAST-MODIFIED:20130523T131835Z
SUMMARY:SEMINARIO DIDATTICO. La crisi della politica? Antipolitica\, movimenti\, rappresentanza
LOCATION:aula abside\, piazza Strambi 1
PRIORITY:3
TRANSP:0
END:VEVENT
END:VCALENDAR
