BEGIN:VCALENDAR
PRODID:-//AT Content Types//AT Event//EN
VERSION:2.0
METHOD:PUBLISH
BEGIN:VEVENT
DTSTAMP:20260419T161100Z
CREATED:20130414T193528Z
UID:ATEvent-508e2926f47f42dda97aeb821d449009
LAST-MODIFIED:20130507T134351Z
SUMMARY:LA CRISI ECONOMICA IN SPAGNA
DTSTART:20130411T090000Z
DTEND:20130411T110000Z
DESCRIPTION:seminario
LOCATION:Aula 7\, via Don Minzoni 2
CATEGORIES:seminario didattico
CONTACT:Piero Bertini\, +39 0733 258.2777\, bertini@unimc.it
CLASS:PUBLIC
END:VEVENT
END:VCALENDAR
