BEGIN:VCALENDAR
PRODID:-//AT Content Types//AT Event//EN
VERSION:2.0
METHOD:PUBLISH
BEGIN:VEVENT
DTSTAMP:20260419T161252Z
CREATED:20160405T082124Z
UID:ATEvent-c927ffdc22e14479a847095714fa7e4d
LAST-MODIFIED:20160419T095920Z
SUMMARY:PER RAFFORZARE IL PROGETTO COSTITUZIONALE. I confini dell'uguaglianza
DTSTART:20160513T130000Z
DTEND:20160513T150000Z
LOCATION:Aula 7 / Sede SPOCRI di via Don Minzoni 22A / Macerata
CATEGORIES:seminario didattico
CONTACT:Piero Bertini\, +39 0733 2582777\, pierluigi.bertini@unimc.it
CLASS:PUBLIC
END:VEVENT
END:VCALENDAR
