BEGIN:VCALENDAR
PRODID:-//AT Content Types//AT Event//EN
VERSION:2.0
METHOD:PUBLISH
BEGIN:VEVENT
DTSTAMP:20260419T161843Z
CREATED:20131112T121936Z
UID:ATEvent-7558d69bf59a4f52bd5433e569bce513
LAST-MODIFIED:20131112T122019Z
SUMMARY:PER RAFFORZARE IL PROGETTO COSTITUZIONALE. LEZIONE. Il lavoro nella cultura popolare e giovanile dell’Italia unita
DTSTART:20131111T080000Z
DTEND:20131111T110000Z
LOCATION:Aula Magna\, Polo Bertelli (c.da Vallebona)
CATEGORIES:seminario didattico
CONTACT:piero Bertini\, +39 0733 258.2777\, pierluigi.bertini@unimc.it
CLASS:PUBLIC
END:VEVENT
END:VCALENDAR
