BEGIN:VCALENDAR
PRODID:-//AT Content Types//AT Event//EN
VERSION:1.0
BEGIN:VEVENT
DTSTART:20140320T140000Z
DTEND:20140430T190000Z
DCREATED:20131112T123105Z
UID:ATEvent-237e35df8248464d89495c1338f83238
SEQUENCE:0
LAST-MODIFIED:20140319T144833Z
SUMMARY:PER RAFFORZARE IL PROGETTO COSTITUZIONALE. 5 LEZIONI DI GIORNALISMO D'INCHIESTA
LOCATION:Aula 2\, Sede di via Don Minzoni\, Macerata
PRIORITY:3
TRANSP:0
END:VEVENT
END:VCALENDAR
