BEGIN:VCALENDAR
PRODID:-//AT Content Types//AT Event//EN
VERSION:2.0
METHOD:PUBLISH
BEGIN:VEVENT
DTSTAMP:20260419T180312Z
CREATED:20160405T082124Z
UID:ATEvent-f01bf2ee068542b8bde09d4c6fb82051
LAST-MODIFIED:20160405T090346Z
SUMMARY:PER RAFFORZARE IL PROGETTO COSTITUZIONALE. Nuove disuguaglianze\: le disuguaglianze digitali
DTSTART:20160405T120000Z
DTEND:20160405T140000Z
LOCATION:Aula 4 / Sede SPOCRI di via Don Minzoni 22A / Macerata
CATEGORIES:seminario didattico
CONTACT:Piero Bertini\, +39 0733 2582777\, pierluigi.bertini@unimc.it
CLASS:PUBLIC
END:VEVENT
END:VCALENDAR
