BEGIN:VCALENDAR
PRODID:-//AT Content Types//AT Event//EN
VERSION:1.0
BEGIN:VEVENT
DTSTART:20160505T090000Z
DTEND:20160505T110000Z
DCREATED:20160405T082124Z
UID:ATEvent-afdb84bfb21e48b7ae3c289670f2491f
SEQUENCE:0
LAST-MODIFIED:20160419T095339Z
SUMMARY:PER RAFFORZARE IL PROGETTO COSTITUZIONALE. Un giorno nella vita\: quando la differenza può dirsi disuguaglianza
LOCATION:Aula D / Sede Dipartimento di Studi umanistici / Macerata
PRIORITY:3
TRANSP:0
END:VEVENT
END:VCALENDAR
