BEGIN:VCALENDAR
PRODID:-//AT Content Types//AT Event//EN
VERSION:2.0
METHOD:PUBLISH
BEGIN:VEVENT
DTSTAMP:20260419T161108Z
CREATED:20140128T092309Z
UID:ATEvent-27abb313f463457d9b241492caa63582
LAST-MODIFIED:20140128T092601Z
SUMMARY:CICLO LEZIONI . Storia e memoria dei Gulag (Progetto AGE)
DTSTART:20140218T070000Z
DTEND:20140331T090000Z
LOCATION:Istituto Enstein-Nebbia\, Loreto (AN)
CATEGORIES:seminario didattico
CONTACT:Piero Bertini\, +39 0733 258.2777\, pierluigi.bertini@unimc.it
CLASS:PUBLIC
END:VEVENT
END:VCALENDAR
