BEGIN:VCALENDAR
PRODID:-//AT Content Types//AT Event//EN
VERSION:2.0
METHOD:PUBLISH
BEGIN:VEVENT
DTSTAMP:20260419T180033Z
CREATED:20140430T085145Z
UID:ATEvent-dfd99b80e76a4d63a5a72d7c7a95fd2d
LAST-MODIFIED:20140430T085309Z
SUMMARY:SEMINARIO. Consumatori  e servizi di comunicazioni elettroniche nella connected society
DTSTART:20140509T080000Z
DTEND:20140509T110000Z
LOCATION:aula 6\, Sede di via Don Minzoni\, Macerata
CATEGORIES:seminario didattico
CONTACT:Piero Bertini\, +39 0733 258.2777\, pierluigi.bertini@unimc.it
CLASS:PUBLIC
END:VEVENT
END:VCALENDAR
