BEGIN:VCALENDAR
PRODID:-//AT Content Types//AT Event//EN
VERSION:2.0
METHOD:PUBLISH
BEGIN:VEVENT
DTSTAMP:20260419T143534Z
CREATED:20180222T101144Z
UID:ATEvent-e70b90c476e2433e9f8dd168f8d06079
LAST-MODIFIED:20180222T101223Z
SUMMARY:Secondo ciclo di seminari su\: “Politica\, politiche ed economia\: prospettive di analisi”
DTSTART:20180327T120000Z
DTEND:20180222T160000Z
LOCATION:AULA AL2 / PIAZZA STRAMBI\, 1 / MACERATA
CATEGORIES:seminario didattico
CLASS:PUBLIC
END:VEVENT
END:VCALENDAR
