BEGIN:VCALENDAR
PRODID:-//AT Content Types//AT Event//EN
VERSION:2.0
METHOD:PUBLISH
BEGIN:VEVENT
DTSTAMP:20260419T143528Z
CREATED:20180222T101438Z
UID:ATEvent-b61155dabf3249a9b6b1dcbd7bdb87d0
LAST-MODIFIED:20180409T094650Z
SUMMARY:Secondo ciclo di seminari su\: “Politica\, politiche ed economia\: prospettive di analisi”
DTSTART:20180508T120000Z
DTEND:20180508T150000Z
LOCATION:AULA AL2 / PIAZZA STRAMBI\, 1 / MACERATA
CATEGORIES:seminario didattico
CLASS:PUBLIC
END:VEVENT
END:VCALENDAR
