BEGIN:VCALENDAR
PRODID:-//AT Content Types//AT Event//EN
VERSION:2.0
METHOD:PUBLISH
BEGIN:VEVENT
DTSTAMP:20260419T143539Z
CREATED:20180222T100904Z
UID:ATEvent-9c16036488564e6d8d377a3809c9a49c
LAST-MODIFIED:20180222T101323Z
SUMMARY:Secondo ciclo di seminari su\: “Politica\, politiche ed economia\: prospettive di analisi”
DTSTART:20180306T130000Z
DTEND:20180306T160000Z
LOCATION:AULA AL2 / PIAZZA STRAMBI\, 1 / MACERATA
CATEGORIES:seminario didattico
CLASS:PUBLIC
END:VEVENT
END:VCALENDAR
