BEGIN:VCALENDAR
PRODID:-//AT Content Types//AT Event//EN
VERSION:2.0
METHOD:PUBLISH
BEGIN:VEVENT
DTSTAMP:20260421T100705Z
CREATED:20131127T091056Z
UID:ATEvent-9f664a98ec274d80b617deb6c30a7372
LAST-MODIFIED:20131127T091618Z
SUMMARY:Seminar. AGRICULTURAL EXPORT RESTRICTIONS AND THE WTO\: WHAT OPTIONS  DO POLICY-MAKERS HAVE FOR PROMOTING FOOD SECURITY?
DTSTART:20131205T100000Z
DTEND:20131205T120000Z
LOCATION:Aula Abside\, piazza Strambi 1\, UniMc
CATEGORIES:seminario didattico
CONTACT:Piero Bertini\, +39 0733 258.2777\, pierluigi.bertini@unimc.it
CLASS:PUBLIC
END:VEVENT
END:VCALENDAR
