BEGIN:VCALENDAR
PRODID:-//AT Content Types//AT Event//EN
VERSION:1.0
BEGIN:VEVENT
DTSTART:20160407T090000Z
DTEND:20160407T110000Z
DCREATED:20160323T135609Z
UID:ATEvent-a5cdce4fb3ab4d4a9be26d4e96de6c7f
SEQUENCE:0
LAST-MODIFIED:20160323T135819Z
SUMMARY:SEMINAR. Creating a history of the future\: Russian historical memory in the era of the Ukranian crisis
LOCATION:Aula Abside / Sede SPOCRI di piazza Strambi 1 / 62100 Macerata
PRIORITY:3
TRANSP:0
END:VEVENT
END:VCALENDAR
