BEGIN:VCALENDAR
PRODID:-//AT Content Types//AT Event//EN
VERSION:2.0
METHOD:PUBLISH
BEGIN:VEVENT
DTSTAMP:20260419T161619Z
CREATED:20160927T104750Z
UID:ATEvent-3e0575f38aeb4ebc8e846bbc186b8610
LAST-MODIFIED:20160927T104939Z
SUMMARY:SEMINAR. Identity\, Communication and Local Government in the Adriatic-Ionian Macroregion
DTSTART:20160929T130000Z
DTEND:20160929T150000Z
LOCATION:Aula 4 / Sede SPOCRI di via Don Minzoni 22A / Macerata
CATEGORIES:seminario didattico
CONTACT:Piero Bertini\, +39 0733 2582777\, pierluigi.bertini@unimc.it
CLASS:PUBLIC
END:VEVENT
END:VCALENDAR
