BEGIN:VCALENDAR
PRODID:-//AT Content Types//AT Event//EN
VERSION:2.0
METHOD:PUBLISH
BEGIN:VEVENT
DTSTAMP:20260419T160930Z
CREATED:20150505T081330Z
UID:ATEvent-2bb5823d78d64c34b89a81fe4f849365
LAST-MODIFIED:20150505T081624Z
SUMMARY:SEMINAR. Justice and historical memory
DTSTART:20150521T120000Z
DTEND:20150521T150000Z
LOCATION:Room 3\, via Don Minzoni 2 / UniMc / Macerata
CATEGORIES:seminario didattico
CONTACT:Piero Bertini\, pierluigi.bertini@unimc.it
CLASS:PUBLIC
END:VEVENT
END:VCALENDAR
