BEGIN:VCALENDAR
PRODID:-//AT Content Types//AT Event//EN
VERSION:2.0
METHOD:PUBLISH
BEGIN:VEVENT
DTSTAMP:20260419T161913Z
CREATED:20161129T122031Z
UID:ATEvent-33df9b1b52b448f8b14895f9f9aac2c2
LAST-MODIFIED:20161130T090522Z
SUMMARY:SEMINAR. Social and legal aspects of assisted reproduction and end of life
DTSTART:20161201T143000Z
DTEND:20161129T183000Z
LOCATION:Laboratorio Barnave / piazza Strambi 1 / Macerata
CATEGORIES:seminario didattico
CONTACT:Piero Bertini\, +39 0733 258.2777\, pierluigi.bertini@unimc.it
CLASS:PUBLIC
END:VEVENT
END:VCALENDAR
