BEGIN:VCALENDAR
PRODID:-//AT Content Types//AT Event//EN
VERSION:1.0
BEGIN:VEVENT
DTSTART:20151117T130000Z
DTEND:20151117T150000Z
DCREATED:20151103T103541Z
UID:ATEvent-b5b4c3b2c85f4ea7a320d07636e7f2b4
SEQUENCE:0
LAST-MODIFIED:20151103T152411Z
SUMMARY:SEMINARIO DI STUDIO. Equilibrio di bilancio. Dalla riforma costituzionale alla giustiziabilità
LOCATION:Aula 2 / Dipa. Giurisprudenza /piaggia dell'Università 2 / Macerata
PRIORITY:3
TRANSP:0
END:VEVENT
END:VCALENDAR
