BEGIN:VCALENDAR
PRODID:-//AT Content Types//AT Event//EN
VERSION:1.0
BEGIN:VEVENT
DTSTART:20151118T100000Z
DTEND:20151118T120000Z
DCREATED:20151103T104632Z
UID:ATEvent-645ca53d0f6a4343967da80b0115882b
SEQUENCE:0
LAST-MODIFIED:20151103T152956Z
SUMMARY:SEMINARIO DI STUDIO. Le variazioni territoriali nella prospettiva delle riforme.
LOCATION:Aula 2 / Dip. Giurisprudenza / piaggia dell'Università 2 / Macerata
PRIORITY:3
TRANSP:0
END:VEVENT
END:VCALENDAR
