BEGIN:VCALENDAR
PRODID:-//AT Content Types//AT Event//EN
VERSION:2.0
METHOD:PUBLISH
BEGIN:VEVENT
DTSTAMP:20260419T161842Z
CREATED:20150217T103146Z
UID:ATEvent-bb8c667362cd4df9b1f5fd44bcdb1d8a
LAST-MODIFIED:20150217T103240Z
SUMMARY:SEMINARIO DIDATTICO. Il giornalismo culturale in Italia\: sviluppo\, evoluzione e cambio di veste
DTSTART:20150226T130000Z
DTEND:20150326T150000Z
LOCATION:Aula 3bis\, Sede di via Don Minzoni 2\, UniMc\, Macerata
CATEGORIES:seminario didattico
CONTACT:Piero Bertini\, +39 0733 258.2777\, pierluigi.bertini@unimc.it
CLASS:PUBLIC
END:VEVENT
END:VCALENDAR
