BEGIN:VCALENDAR
PRODID:-//AT Content Types//AT Event//EN
VERSION:2.0
METHOD:PUBLISH
BEGIN:VEVENT
DTSTAMP:20260419T161544Z
CREATED:20160309T110714Z
UID:ATEvent-d5683fc201744a3f93532df707883f85
LAST-MODIFIED:20160309T110748Z
SUMMARY:SEMINARIO DIDATTICO. La pianificazione dei mezzi\: creatività e dati
DTSTART:20160318T080000Z
DTEND:20160309T100000Z
LOCATION:Aula 6 / sede SPOCRI / via Don Minzoni 22/A / Macerata
CATEGORIES:seminario didattico
CONTACT:Piero Bertini\, +39 0733 258.2777\, pierluigi.bertini@unimc.it
CLASS:PUBLIC
END:VEVENT
END:VCALENDAR
