BEGIN:VCALENDAR
PRODID:-//AT Content Types//AT Event//EN
VERSION:2.0
METHOD:PUBLISH
BEGIN:VEVENT
DTSTAMP:20260419T161713Z
CREATED:20131128T102732Z
UID:ATEvent-c079d3f48a6241f18c9e3110ddc88837
LAST-MODIFIED:20131128T102825Z
SUMMARY:SEMINARIO ERASMUS. Activismo político islámico en España
DTSTART:20131210T100000Z
DTEND:20131210T170000Z
LOCATION:Aula 4 (via Don Minzoni) e Aula A (piazza Strambi 1)
CATEGORIES:seminario didattico
CONTACT:piero Bertini\, +39 0733 258.2777\, pierluigi.bertini@unimc.it
CLASS:PUBLIC
END:VEVENT
END:VCALENDAR
