BEGIN:VCALENDAR
PRODID:-//AT Content Types//AT Event//EN
VERSION:1.0
BEGIN:VEVENT
DTSTART:20131105T100000Z
DTEND:20131106T170000Z
DCREATED:20131016T133035Z
UID:ATEvent-ac2b600c17e54396b02c527ba40f87f2
SEQUENCE:0
LAST-MODIFIED:20131016T133641Z
SUMMARY:SEMINARIO ERASMUS. Los liderazgos de Adolfo Suárez y de Felipe González en la transición a la democracia en España
LOCATION:Aula 4 (via Don Minzoni 2)\; Aula Abside (Piazza Strambi\, 1)
PRIORITY:3
TRANSP:0
END:VEVENT
END:VCALENDAR
