BEGIN:VCALENDAR
PRODID:-//AT Content Types//AT Event//EN
VERSION:2.0
METHOD:PUBLISH
BEGIN:VEVENT
DTSTAMP:20260419T161101Z
CREATED:20160503T081759Z
UID:ATEvent-dc5e0a359c0f4c458a2ff5d9369ad63f
LAST-MODIFIED:20160504T113008Z
SUMMARY:SEMINARIO INTERDISCIPLINARE. Difendersi da internet? Dalla web reputation alla tutela dei diritti
DTSTART:20160512T130000Z
DTEND:20160512T160000Z
DESCRIPTION:Un dibattito a partire dal volume di Deborah Bianchi
LOCATION:Aula 3 / sede SPOCRI / via Don Minzoni 22/A / Macerata
CATEGORIES:seminario didattico
CONTACT:Piero Bertini\, +39 0733 258.2777\, pierluigi.bertini@unimc.it
CLASS:PUBLIC
END:VEVENT
END:VCALENDAR
