BEGIN:VCALENDAR
PRODID:-//AT Content Types//AT Event//EN
VERSION:1.0
BEGIN:VEVENT
DTSTART:20160418T150000Z
DTEND:20160418T170000Z
DCREATED:20160407T103700Z
UID:ATEvent-c86274575b4641ad8a351537170a689f
SEQUENCE:0
LAST-MODIFIED:20160407T103741Z
SUMMARY:SEMINARIO INTERDISCIPLINARE. La neutralità impossibile. Che cos'è e a cosa serve il principio di neutralità della rete internet
LOCATION:Aula 3 / sede SPOCRI / via Don Minzoni 22/A / Macerata
PRIORITY:3
TRANSP:0
END:VEVENT
END:VCALENDAR
