BEGIN:VCALENDAR
PRODID:-//AT Content Types//AT Event//EN
VERSION:1.0
BEGIN:VEVENT
DTSTART:20161129T100000Z
DTEND:20161129T120000Z
DCREATED:20161122T121725Z
UID:ATEvent-7e2c66866bd245f9b8b1f8a7c8e28d7b
SEQUENCE:0
LAST-MODIFIED:20161122T122015Z
SUMMARY:SEMINARIO INTERDISCIPLINARE. Scrivere un testo scientifico\: approcci di ricerca quantitativi e qualitativi
LOCATION:Aula 7 / Sede SPOCRI di via Don Minzoni 22/A / Macerata
PRIORITY:3
TRANSP:0
END:VEVENT
END:VCALENDAR
