BEGIN:VCALENDAR
PRODID:-//AT Content Types//AT Event//EN
VERSION:1.0
BEGIN:VEVENT
DTSTART:20140508T130000Z
DTEND:20140523T090000Z
DCREATED:20140408T085720Z
UID:ATEvent-dbe316de13f343f2a25ec65f9f1623c9
SEQUENCE:0
LAST-MODIFIED:20140715T090445Z
SUMMARY:SEMINARIO. Beni pubblici\: federalismo\, dismissione\, beni comuni
LOCATION:Aula Abside\, Sede di piazza Strambi 1\, Macerata
PRIORITY:3
TRANSP:0
END:VEVENT
END:VCALENDAR
