BEGIN:VCALENDAR
PRODID:-//AT Content Types//AT Event//EN
VERSION:2.0
METHOD:PUBLISH
BEGIN:VEVENT
DTSTAMP:20260419T161005Z
CREATED:20170316T133840Z
UID:ATEvent-ea546030af1a4706ae77826632ba67d2
LAST-MODIFIED:20170316T134329Z
SUMMARY:SEMINARIO. Big data constitutionalism. Sovranità\, potere\, persona nell'era digitale
DTSTART:20170327T150000Z
DTEND:20170327T170000Z
CATEGORIES:seminario didattico
CONTACT:Piero Bertini\, +39 0733 258.2777\, pierluigi.bertini@unimc.it
CLASS:PUBLIC
END:VEVENT
END:VCALENDAR
