BEGIN:VCALENDAR
PRODID:-//AT Content Types//AT Event//EN
VERSION:2.0
METHOD:PUBLISH
BEGIN:VEVENT
DTSTAMP:20260419T161251Z
CREATED:20131031T120055Z
UID:ATEvent-8a2d56a804e6473695932b63a826e02c
LAST-MODIFIED:20131031T121239Z
SUMMARY:SEMINARIO.  Crisi del sistema delle fonti regionali e diritti sociali
DTSTART:20131115T090000Z
DTEND:20131214T230000Z
LOCATION:Aula 2\, via Don Minzoni\, Macerata
CATEGORIES:seminario didattico
CONTACT:Piero Bertini\, +39 0733 258.2777\, pierluigi.bertini@unimc.it
CLASS:PUBLIC
END:VEVENT
END:VCALENDAR
