BEGIN:VCALENDAR
PRODID:-//AT Content Types//AT Event//EN
VERSION:2.0
METHOD:PUBLISH
BEGIN:VEVENT
DTSTAMP:20260419T161005Z
CREATED:20170323T082038Z
UID:ATEvent-9088f8aa39c84fd887e74972587ab101
LAST-MODIFIED:20170323T082115Z
SUMMARY:SEMINARIO. Dipendenze con e senza sostanze\: ricerche\, prevenzione e intervento
DTSTART:20170412T130000Z
DTEND:20170412T150000Z
LOCATION:aula 2 / sede SPOCRI di via Don Minzoni 22/A / Unimc / Macerata
CATEGORIES:seminario didattico
CONTACT:Piero Bertini\, +39 0733 258.2777\, pierluigi.bertini@unimc.it
CLASS:PUBLIC
END:VEVENT
END:VCALENDAR
