BEGIN:VCALENDAR
PRODID:-//AT Content Types//AT Event//EN
VERSION:1.0
BEGIN:VEVENT
DTSTART:20170525T080000Z
DTEND:20170506T110000Z
DCREATED:20170506T164923Z
UID:ATEvent-88b9bef1a57540999fabb4a85504d337
SEQUENCE:0
LAST-MODIFIED:20170506T165012Z
SUMMARY:SEMINARIO. DOING RESEARCH IN COMMUNICATION\: A FOCUS ON HYBRID MESSAGES
LOCATION:aula 4 / sede SPOCRI di via Don Minzoni 22/A / Unimc / Macerata
PRIORITY:3
TRANSP:0
END:VEVENT
END:VCALENDAR
