BEGIN:VCALENDAR
PRODID:-//AT Content Types//AT Event//EN
VERSION:2.0
METHOD:PUBLISH
BEGIN:VEVENT
DTSTAMP:20260419T161108Z
CREATED:20170321T101929Z
UID:ATEvent-7a2cfa56ff144f78baff9636db8287a4
LAST-MODIFIED:20170321T101939Z
SUMMARY:SEMINARIO. Finding your way as a researcher\: young people's needs and psycology
DTSTART:20170322T140000Z
DTEND:20170322T170000Z
LOCATION:Sala del Consiglio / Sede SFBCT / Polo Bertelli 1 / Macerata
CATEGORIES:seminario didattico
CONTACT:Piero Bertini\, +39 0733 258.2777\, pierluigi.bertini@unimc.it
CLASS:PUBLIC
END:VEVENT
END:VCALENDAR
