BEGIN:VCALENDAR
PRODID:-//AT Content Types//AT Event//EN
VERSION:2.0
METHOD:PUBLISH
BEGIN:VEVENT
DTSTAMP:20260419T161750Z
CREATED:20151126T085615Z
UID:ATEvent-bfd4d278ee1b4948a7d54e1dc6bd4afb
LAST-MODIFIED:20151126T085735Z
SUMMARY:SEMINARIO. Gli effetti del Transatlantic Trade and Investment Partnership (TTIP). Una discussione dei luoghi comuni attraverso la lente dell'economia
DTSTART:20151202T100000Z
DTEND:20151202T120000Z
LOCATION:Aula A / Sede SPOCRI di piazza Strambi 1 / UniMc / Macerata
CATEGORIES:seminario didattico
CONTACT:Piero Bertini\, +39 0733 258.2777\, pierluigi.bertini@unimc.it
CLASS:PUBLIC
END:VEVENT
END:VCALENDAR
