BEGIN:VCALENDAR
PRODID:-//AT Content Types//AT Event//EN
VERSION:1.0
BEGIN:VEVENT
DTSTART:20150429T070000Z
DTEND:20150429T090000Z
DCREATED:20150421T135339Z
UID:ATEvent-42c5b6bf1cfa49b89a7a869b887c1ea7
SEQUENCE:0
LAST-MODIFIED:20150421T135432Z
SUMMARY:SEMINARIO. #Hashtag# per comunicare
LOCATION:Aula 1bis / Sede SPOCRI di via Don Minzoni 2 / Macerata
PRIORITY:3
TRANSP:0
END:VEVENT
END:VCALENDAR
