BEGIN:VCALENDAR
PRODID:-//AT Content Types//AT Event//EN
VERSION:2.0
METHOD:PUBLISH
BEGIN:VEVENT
DTSTAMP:20260419T161436Z
CREATED:20140417T184532Z
UID:ATEvent-d572b329603243c386bb15fba2678ef2
LAST-MODIFIED:20140417T184549Z
SUMMARY:SEMINARIO. Histories about Gulags’forgotten victims and antistalinism fight
DTSTART:20140428T140000Z
DTEND:20140428T180000Z
LOCATION:Sala della Biblioteca “Ugo Toria”\, Corso Mazzini 39\, Ascoli Piceno
CATEGORIES:seminario didattico
CONTACT:Piero Bertini\, +39 0733 2582777\, pierlugi.bertini@unimc.it
CLASS:PUBLIC
END:VEVENT
END:VCALENDAR
